BEGIN:VCALENDAR
VERSION:2.0
PRODID:isjps.pantheonsorbonne.fr
X-WR-TIMEZONE:Europe/Paris
BEGIN:VTIMEZONE
TZID:Europe/Paris
X-LIC-LOCATION:Europe/Paris
BEGIN:DAYLIGHT
TZNAME:CEST
TZOFFSETFROM:+0100
TZOFFSETTO:+0200
DTSTART:20250330T010000
END:DAYLIGHT
BEGIN:DAYLIGHT
TZNAME:CEST
TZOFFSETFROM:+0100
TZOFFSETTO:+0200
DTSTART:20260329T010000
END:DAYLIGHT
BEGIN:STANDARD
TZNAME:CET
TZOFFSETFROM:+0200
TZOFFSETTO:+0100
DTSTART:20251026T010000
END:STANDARD
BEGIN:STANDARD
TZNAME:CET
TZOFFSETFROM:+0200
TZOFFSETTO:+0100
DTSTART:20261025T010000
END:STANDARD
END:VTIMEZONE
BEGIN:VEVENT
UID:ffef5237d1bab87ca7e284cdee8b71f5
DTSTART;TZID=Europe/Paris:20260318T140000
SEQUENCE:0
TRANSP:OPAQUE
URL:https://isjps.pantheonsorbonne.fr/evenements
SUMMARY:Habitabilité de la Terre et transitions justes. Les réponses alte
 rnatives
CLASS:PUBLIC
DESCRIPTION:Université Paris 1 Panthéon-Sorbonne\, centre Lourcine\, 1 ru
 e de la\nGlacière\, 75013 Paris\, salle de réunion de la Bibliothèque
X-ALT-DESC;FMTTYPE=text/html:Université Paris 1 Panthéon-Sorbonne\, centr
 e Lourcine\, 1 rue de la Glacière\, 75013 Paris\, salle de réunion de la
  Bibliothèque\n\n
DTSTAMP:20260317T160211Z
END:VEVENT
END:VCALENDAR